BEGIN:VCALENDAR
VERSION:2.0
CALSCALE:GREGORIAN
PRODID:-//Diputació de Barcelona//DibaCMS//EN
BEGIN:VEVENT
UID:6266
DTSTAMP:20260420T214138
DTSTART:20221126T120000
DTEND:20221126T130000
SUMMARY:Presentació 1er Campus de Nadal de Futbol de la Llacuna
LOCATION:Sala de Plens de l'Ajuntament 
METHOD:PUBLISH
X-WR-CALNAME:llacuna@lallacuna.cat
X-WR-TIMEZONE:Europe/Madrid
DESCRIPTION:
URI:https://www.lallacuna.cat/actualitat/agenda/presentacio-1er-campus-de-nadal-de-futbol-de-la-llacuna.html
CLASS:PUBLIC
END:VEVENT
END:VCALENDAR
